BEGIN:VCALENDAR
VERSION:2.0
PRODID:-//PPM - ECPv6.3.1//NONSGML v1.0//EN
CALSCALE:GREGORIAN
METHOD:PUBLISH
X-ORIGINAL-URL:http://ppm.bengkulu.tech
X-WR-CALDESC:Events for PPM
REFRESH-INTERVAL;VALUE=DURATION:PT1H
X-Robots-Tag:noindex
X-PUBLISHED-TTL:PT1H
BEGIN:VTIMEZONE
TZID:Asia/Jakarta
BEGIN:STANDARD
TZOFFSETFROM:+0700
TZOFFSETTO:+0700
TZNAME:WIB
DTSTART:20240101T000000
END:STANDARD
END:VTIMEZONE
BEGIN:VEVENT
DTSTART;VALUE=DATE:20240301
DTEND;VALUE=DATE:20240501
DTSTAMP:20260423T045807
CREATED:20240301T010018Z
LAST-MODIFIED:20240226T063833Z
UID:5644-1709251200-1714521599@ppm.bengkulu.tech
SUMMARY:Pengusulan Proposal (Usulan Baru)
DESCRIPTION:
URL:http://ppm.bengkulu.tech/event/pengusulan-proposal/
END:VEVENT
BEGIN:VEVENT
DTSTART;VALUE=DATE:20240415
DTEND;VALUE=DATE:20240507
DTSTAMP:20260423T045807
CREATED:20240205T071007Z
LAST-MODIFIED:20240226T063833Z
UID:5626-1713139200-1715039999@ppm.bengkulu.tech
SUMMARY:Validasi dan Persetujuan Usulan Proposal (Usulan Baru)
DESCRIPTION:
URL:http://ppm.bengkulu.tech/event/event/
END:VEVENT
BEGIN:VEVENT
DTSTART;VALUE=DATE:20240507
DTEND;VALUE=DATE:20240510
DTSTAMP:20260423T045807
CREATED:20240213T023208Z
LAST-MODIFIED:20240226T063833Z
UID:5669-1715040000-1715299199@ppm.bengkulu.tech
SUMMARY:Plotting Reviewer dan Administrasi (Usulan Baru)
DESCRIPTION:
URL:http://ppm.bengkulu.tech/event/plotting-reviewer-dan-administrasi/
END:VEVENT
BEGIN:VEVENT
DTSTART;VALUE=DATE:20240510
DTEND;VALUE=DATE:20240525
DTSTAMP:20260423T045807
CREATED:20240213T023315Z
LAST-MODIFIED:20240226T063833Z
UID:5671-1715299200-1716595199@ppm.bengkulu.tech
SUMMARY:Penilaian Administrasi (Usulan Baru)
DESCRIPTION:
URL:http://ppm.bengkulu.tech/event/penilaian-administrasi/
END:VEVENT
BEGIN:VEVENT
DTSTART;VALUE=DATE:20240524
DTEND;VALUE=DATE:20240527
DTSTAMP:20260423T045807
CREATED:20240213T023632Z
LAST-MODIFIED:20240226T063833Z
UID:5679-1716508800-1716767999@ppm.bengkulu.tech
SUMMARY:Plotting Review Substansi (Usulan Baru)
DESCRIPTION:
URL:http://ppm.bengkulu.tech/event/plotting-review-substansi-usulan-baru/
END:VEVENT
BEGIN:VEVENT
DTSTART;VALUE=DATE:20240527
DTEND;VALUE=DATE:20240611
DTSTAMP:20260423T045807
CREATED:20240213T023714Z
LAST-MODIFIED:20240226T063833Z
UID:5681-1716768000-1718063999@ppm.bengkulu.tech
SUMMARY:Penilaian Substansi (Usulan Baru)
DESCRIPTION:
URL:http://ppm.bengkulu.tech/event/penilaian-substansi-usulan-baru/
END:VEVENT
BEGIN:VEVENT
DTSTART;VALUE=DATE:20240611
DTEND;VALUE=DATE:20240625
DTSTAMP:20260423T045807
CREATED:20240213T023837Z
LAST-MODIFIED:20240226T063833Z
UID:5683-1718064000-1719273599@ppm.bengkulu.tech
SUMMARY:Penilaian Presentasi (Usulan Baru Skema Penelitian Penugasan)
DESCRIPTION:
URL:http://ppm.bengkulu.tech/event/penilaian-presentasi-usulan-baru-skema-penelitian-penugasan/
END:VEVENT
BEGIN:VEVENT
DTSTART;TZID=Asia/Jakarta:20240630T000000
DTEND;TZID=Asia/Jakarta:20240630T235900
DTSTAMP:20260423T045807
CREATED:20240213T023942Z
LAST-MODIFIED:20240226T063833Z
UID:5685-1719705600-1719791940@ppm.bengkulu.tech
SUMMARY:Penetapan Usulan yang Lolos Seleksi (Usulan Baru)
DESCRIPTION:
URL:http://ppm.bengkulu.tech/event/penetapan-usulan-yang-lolos-seleksi-usulan-baru/
END:VEVENT
BEGIN:VEVENT
DTSTART;TZID=Asia/Jakarta:20250214T080000
DTEND;TZID=Asia/Jakarta:20250331T170000
DTSTAMP:20260423T045807
CREATED:20250214T144217Z
LAST-MODIFIED:20250214T144238Z
UID:6089-1739520000-1743440400@ppm.bengkulu.tech
SUMMARY:Menunggu Efisiensi
DESCRIPTION:
URL:http://ppm.bengkulu.tech/event/menunggu-efisiensi/
END:VEVENT
END:VCALENDAR